BEGIN:VCALENDAR
VERSION:2.0
PRODID:-//steinmanproductions - ECPv6.15.18//NONSGML v1.0//EN
CALSCALE:GREGORIAN
METHOD:PUBLISH
X-ORIGINAL-URL:https://stevesteinmanproductions.com
X-WR-CALDESC:Events for steinmanproductions
REFRESH-INTERVAL;VALUE=DURATION:PT1H
X-Robots-Tag:noindex
X-PUBLISHED-TTL:PT1H
BEGIN:VTIMEZONE
TZID:Europe/London
BEGIN:DAYLIGHT
TZOFFSETFROM:+0000
TZOFFSETTO:+0100
TZNAME:BST
DTSTART:20260329T010000
END:DAYLIGHT
BEGIN:STANDARD
TZOFFSETFROM:+0100
TZOFFSETTO:+0000
TZNAME:GMT
DTSTART:20261025T010000
END:STANDARD
BEGIN:DAYLIGHT
TZOFFSETFROM:+0000
TZOFFSETTO:+0100
TZNAME:BST
DTSTART:20270328T010000
END:DAYLIGHT
BEGIN:STANDARD
TZOFFSETFROM:+0100
TZOFFSETTO:+0000
TZNAME:GMT
DTSTART:20271031T010000
END:STANDARD
BEGIN:DAYLIGHT
TZOFFSETFROM:+0000
TZOFFSETTO:+0100
TZNAME:BST
DTSTART:20280326T010000
END:DAYLIGHT
BEGIN:STANDARD
TZOFFSETFROM:+0100
TZOFFSETTO:+0000
TZNAME:GMT
DTSTART:20281029T010000
END:STANDARD
END:VTIMEZONE
BEGIN:VEVENT
DTSTART;TZID=Europe/London:20270917T193000
DTEND;TZID=Europe/London:20270917T220000
DTSTAMP:20260425T163542
CREATED:20260312T093810Z
LAST-MODIFIED:20260317T114040Z
UID:987611664-1821209400-1821218400@stevesteinmanproductions.com
SUMMARY:Crewe • Lyceum Theatre
DESCRIPTION:
URL:https://stevesteinmanproductions.com/event/crewe-lyceum-theatre/
LOCATION:Lyceum Theatre\, Crewe\, United Kingdom
CATEGORIES:Bat Out of Hell 50th Anniversary
END:VEVENT
BEGIN:VEVENT
DTSTART;TZID=Europe/London:20270918T193000
DTEND;TZID=Europe/London:20270918T220000
DTSTAMP:20260425T163542
CREATED:20260317T114251Z
LAST-MODIFIED:20260317T114251Z
UID:987611876-1821295800-1821304800@stevesteinmanproductions.com
SUMMARY:Carlisle • Sands Centre
DESCRIPTION:
URL:https://stevesteinmanproductions.com/event/carlisle-sands-centre-3/
LOCATION:Sands Centre\, Carlisle\, United Kingdom
CATEGORIES:Bat Out of Hell 50th Anniversary
END:VEVENT
BEGIN:VEVENT
DTSTART;TZID=Europe/London:20270923T080000
DTEND;TZID=Europe/London:20270923T170000
DTSTAMP:20260425T163542
CREATED:20260317T114344Z
LAST-MODIFIED:20260326T135544Z
UID:987611878-1821686400-1821718800@stevesteinmanproductions.com
SUMMARY:Portsmouth • Kings Theatre
DESCRIPTION:
URL:https://stevesteinmanproductions.com/event/portsmouth-kings-theatre-2/
LOCATION:Kings Theatre
CATEGORIES:Bat Out of Hell 50th Anniversary
END:VEVENT
BEGIN:VEVENT
DTSTART;TZID=Europe/London:20270924T193000
DTEND;TZID=Europe/London:20270924T220000
DTSTAMP:20260425T163542
CREATED:20260312T095137Z
LAST-MODIFIED:20260312T095137Z
UID:987611688-1821814200-1821823200@stevesteinmanproductions.com
SUMMARY:Swindon • Wyvern Theatre
DESCRIPTION:
URL:https://stevesteinmanproductions.com/event/swindon-wyvern-theatre-2/
LOCATION:Wyvern Theatre\, Swindon\, United Kingdom
CATEGORIES:Bat Out of Hell 50th Anniversary
END:VEVENT
BEGIN:VEVENT
DTSTART;TZID=Europe/London:20270925T193000
DTEND;TZID=Europe/London:20270925T220000
DTSTAMP:20260425T163542
CREATED:20260312T095543Z
LAST-MODIFIED:20260312T095543Z
UID:987611690-1821900600-1821909600@stevesteinmanproductions.com
SUMMARY:Cardiff • Utilita Arena
DESCRIPTION:
URL:https://stevesteinmanproductions.com/event/cardiff-utilita-arena/
LOCATION:Utilita Arena\, Cardiff\, United Kingdom
CATEGORIES:Bat Out of Hell 50th Anniversary
END:VEVENT
BEGIN:VEVENT
DTSTART;TZID=Europe/London:20270929T193000
DTEND;TZID=Europe/London:20270929T220000
DTSTAMP:20260425T163542
CREATED:20260312T100556Z
LAST-MODIFIED:20260312T100556Z
UID:987611695-1822246200-1822255200@stevesteinmanproductions.com
SUMMARY:Edinburgh • Usher Hall
DESCRIPTION:
URL:https://stevesteinmanproductions.com/event/edinburgh-usher-hall/
LOCATION:Usher Hall\, Edinburgh\, United Kingdom
CATEGORIES:Bat Out of Hell 50th Anniversary
END:VEVENT
END:VCALENDAR