BEGIN:VCALENDAR
VERSION:2.0
PRODID:-//steinmanproductions - ECPv6.15.18//NONSGML v1.0//EN
CALSCALE:GREGORIAN
METHOD:PUBLISH
X-WR-CALNAME:steinmanproductions
X-ORIGINAL-URL:https://stevesteinmanproductions.com
X-WR-CALDESC:Events for steinmanproductions
REFRESH-INTERVAL;VALUE=DURATION:PT1H
X-Robots-Tag:noindex
X-PUBLISHED-TTL:PT1H
BEGIN:VTIMEZONE
TZID:Europe/London
BEGIN:DAYLIGHT
TZOFFSETFROM:+0000
TZOFFSETTO:+0100
TZNAME:BST
DTSTART:20250330T010000
END:DAYLIGHT
BEGIN:STANDARD
TZOFFSETFROM:+0100
TZOFFSETTO:+0000
TZNAME:GMT
DTSTART:20251026T010000
END:STANDARD
BEGIN:DAYLIGHT
TZOFFSETFROM:+0000
TZOFFSETTO:+0100
TZNAME:BST
DTSTART:20260329T010000
END:DAYLIGHT
BEGIN:STANDARD
TZOFFSETFROM:+0100
TZOFFSETTO:+0000
TZNAME:GMT
DTSTART:20261025T010000
END:STANDARD
BEGIN:DAYLIGHT
TZOFFSETFROM:+0000
TZOFFSETTO:+0100
TZNAME:BST
DTSTART:20270328T010000
END:DAYLIGHT
BEGIN:STANDARD
TZOFFSETFROM:+0100
TZOFFSETTO:+0000
TZNAME:GMT
DTSTART:20271031T010000
END:STANDARD
END:VTIMEZONE
BEGIN:VEVENT
DTSTART;TZID=Europe/London:20261002T193000
DTEND;TZID=Europe/London:20261002T220000
DTSTAMP:20260425T042517
CREATED:20260224T095745Z
LAST-MODIFIED:20260224T095931Z
UID:987611341-1790969400-1790978400@stevesteinmanproductions.com
SUMMARY:Scunthorpe • The Baths Hall
DESCRIPTION:
URL:https://stevesteinmanproductions.com/event/scunthorpe-the-baths-hall/
LOCATION:The Baths Hall\, Scunthorpe\, United Kingdom
CATEGORIES:Anything For Love
END:VEVENT
BEGIN:VEVENT
DTSTART;TZID=Europe/London:20261003T193000
DTEND;TZID=Europe/London:20261003T220000
DTSTAMP:20260425T042517
CREATED:20260224T100033Z
LAST-MODIFIED:20260224T100103Z
UID:987611344-1791055800-1791064800@stevesteinmanproductions.com
SUMMARY:Blackpool • The Grand Theatre
DESCRIPTION:
URL:https://stevesteinmanproductions.com/event/blackpool-the-grand-theatre-2/
LOCATION:The Grand Theatre\, Blackpool\, United Kingdom
CATEGORIES:Anything For Love
END:VEVENT
BEGIN:VEVENT
DTSTART;TZID=Europe/London:20261015T193000
DTEND;TZID=Europe/London:20261015T220000
DTSTAMP:20260425T042517
CREATED:20260224T100318Z
LAST-MODIFIED:20260224T100318Z
UID:987611346-1792092600-1792101600@stevesteinmanproductions.com
SUMMARY:Hull • New Theatre
DESCRIPTION:
URL:https://stevesteinmanproductions.com/event/hull-new-theatre/
LOCATION:New Theatre\, Hull\, United Kingdom
CATEGORIES:Anything For Love
END:VEVENT
BEGIN:VEVENT
DTSTART;TZID=Europe/London:20261016T193000
DTEND;TZID=Europe/London:20261016T220000
DTSTAMP:20260425T042517
CREATED:20260224T100429Z
LAST-MODIFIED:20260224T100429Z
UID:987611349-1792179000-1792188000@stevesteinmanproductions.com
SUMMARY:Guildford • G-Live
DESCRIPTION:
URL:https://stevesteinmanproductions.com/event/guildford-g-live/
LOCATION:G-Live\, Guildford\, United Kingdom
CATEGORIES:Anything For Love
END:VEVENT
BEGIN:VEVENT
DTSTART;TZID=Europe/London:20261017T193000
DTEND;TZID=Europe/London:20261017T220000
DTSTAMP:20260425T042517
CREATED:20260224T100931Z
LAST-MODIFIED:20260224T100931Z
UID:987611352-1792265400-1792274400@stevesteinmanproductions.com
SUMMARY:Mansfield • Palace Theatre
DESCRIPTION:
URL:https://stevesteinmanproductions.com/event/mansfield-palace-theatre/
LOCATION:Palace Theatre\, Newark\, United Kingdom
CATEGORIES:Anything For Love
END:VEVENT
BEGIN:VEVENT
DTSTART;TZID=Europe/London:20261023T193000
DTEND;TZID=Europe/London:20261023T220000
DTSTAMP:20260425T042517
CREATED:20260224T101049Z
LAST-MODIFIED:20260224T101049Z
UID:987611354-1792783800-1792792800@stevesteinmanproductions.com
SUMMARY:Kings Lynn • Corn Exchange
DESCRIPTION:
URL:https://stevesteinmanproductions.com/event/kings-lynn-corn-exchange/
LOCATION:Corn Exchange\, Kings Lynn\, United Kingdom
CATEGORIES:Anything For Love
END:VEVENT
BEGIN:VEVENT
DTSTART;TZID=Europe/London:20261024T193000
DTEND;TZID=Europe/London:20261024T220000
DTSTAMP:20260425T042517
CREATED:20260317T112913Z
LAST-MODIFIED:20260317T112913Z
UID:987611860-1792870200-1792879200@stevesteinmanproductions.com
SUMMARY:Skegness • Embassy Theatre
DESCRIPTION:
URL:https://stevesteinmanproductions.com/event/skegness-embassy-theatre-3/
LOCATION:Embassy Theatre\, Skegness\, United Kingdom
CATEGORIES:Anything For Love
END:VEVENT
BEGIN:VEVENT
DTSTART;TZID=Europe/London:20261029T193000
DTEND;TZID=Europe/London:20261029T220000
DTSTAMP:20260425T042517
CREATED:20260224T101143Z
LAST-MODIFIED:20260224T101143Z
UID:987611357-1793302200-1793311200@stevesteinmanproductions.com
SUMMARY:Perth • Concert Hall
DESCRIPTION:
URL:https://stevesteinmanproductions.com/event/perth-concert-hall/
LOCATION:Concert Hall\, Perth\, United Kingdom
CATEGORIES:Anything For Love
END:VEVENT
BEGIN:VEVENT
DTSTART;TZID=Europe/London:20261030T193000
DTEND;TZID=Europe/London:20261030T220000
DTSTAMP:20260425T042517
CREATED:20260224T101250Z
LAST-MODIFIED:20260224T101250Z
UID:987611360-1793388600-1793397600@stevesteinmanproductions.com
SUMMARY:Carlisle • Sands Centre
DESCRIPTION:
URL:https://stevesteinmanproductions.com/event/carlisle-sands-centre/
LOCATION:Sands Centre\, Carlisle\, United Kingdom
CATEGORIES:Anything For Love
END:VEVENT
BEGIN:VEVENT
DTSTART;TZID=Europe/London:20261031T193000
DTEND;TZID=Europe/London:20261031T220000
DTSTAMP:20260425T042517
CREATED:20260224T101343Z
LAST-MODIFIED:20260224T101343Z
UID:987611363-1793475000-1793484000@stevesteinmanproductions.com
SUMMARY:Llandudno • Venue Cymru
DESCRIPTION:
URL:https://stevesteinmanproductions.com/event/llandudno-venue-cymru/
LOCATION:Venue Cymru\, Llandudno\, United Kingdom
CATEGORIES:Anything For Love
END:VEVENT
END:VCALENDAR