BEGIN:VCALENDAR
VERSION:2.0
PRODID:-//steinmanproductions - ECPv6.15.18//NONSGML v1.0//EN
CALSCALE:GREGORIAN
METHOD:PUBLISH
X-ORIGINAL-URL:https://stevesteinmanproductions.com
X-WR-CALDESC:Events for steinmanproductions
REFRESH-INTERVAL;VALUE=DURATION:PT1H
X-Robots-Tag:noindex
X-PUBLISHED-TTL:PT1H
BEGIN:VTIMEZONE
TZID:Europe/London
BEGIN:DAYLIGHT
TZOFFSETFROM:+0000
TZOFFSETTO:+0100
TZNAME:BST
DTSTART:20250330T010000
END:DAYLIGHT
BEGIN:STANDARD
TZOFFSETFROM:+0100
TZOFFSETTO:+0000
TZNAME:GMT
DTSTART:20251026T010000
END:STANDARD
BEGIN:DAYLIGHT
TZOFFSETFROM:+0000
TZOFFSETTO:+0100
TZNAME:BST
DTSTART:20260329T010000
END:DAYLIGHT
BEGIN:STANDARD
TZOFFSETFROM:+0100
TZOFFSETTO:+0000
TZNAME:GMT
DTSTART:20261025T010000
END:STANDARD
BEGIN:DAYLIGHT
TZOFFSETFROM:+0000
TZOFFSETTO:+0100
TZNAME:BST
DTSTART:20270328T010000
END:DAYLIGHT
BEGIN:STANDARD
TZOFFSETFROM:+0100
TZOFFSETTO:+0000
TZNAME:GMT
DTSTART:20271031T010000
END:STANDARD
END:VTIMEZONE
BEGIN:VEVENT
DTSTART;TZID=Europe/London:20260703T193000
DTEND;TZID=Europe/London:20260703T220000
DTSTAMP:20260425T005742
CREATED:20260224T094431Z
LAST-MODIFIED:20260224T094431Z
UID:987611312-1783107000-1783116000@stevesteinmanproductions.com
SUMMARY:Basingstoke • The Anvil
DESCRIPTION:
URL:https://stevesteinmanproductions.com/event/basingstoke-the-anvil/
LOCATION:The Anvil\, Basingstoke\, United Kingdom
CATEGORIES:Anything For Love
END:VEVENT
BEGIN:VEVENT
DTSTART;TZID=Europe/London:20260704T193000
DTEND;TZID=Europe/London:20260704T220000
DTSTAMP:20260425T005742
CREATED:20260224T094526Z
LAST-MODIFIED:20260224T094526Z
UID:987611315-1783193400-1783202400@stevesteinmanproductions.com
SUMMARY:Salisbury • City Hall
DESCRIPTION:
URL:https://stevesteinmanproductions.com/event/salisbury-city-hall/
LOCATION:City Hall\, Salisbury\, United Kingdom
CATEGORIES:Anything For Love
END:VEVENT
BEGIN:VEVENT
DTSTART;TZID=Europe/London:20260709T193000
DTEND;TZID=Europe/London:20260709T220000
DTSTAMP:20260425T005742
CREATED:20260224T094628Z
LAST-MODIFIED:20260317T112418Z
UID:987611318-1783625400-1783634400@stevesteinmanproductions.com
SUMMARY:Southend-on-Sea • Cliffs Pavilion
DESCRIPTION:
URL:https://stevesteinmanproductions.com/event/southend-on-sea-cliffs-pavilion/
LOCATION:Cliffs Pavilion\, Southend-on-sea\, United Kingdom
CATEGORIES:Anything For Love
END:VEVENT
BEGIN:VEVENT
DTSTART;TZID=Europe/London:20260710T193000
DTEND;TZID=Europe/London:20260710T220000
DTSTAMP:20260425T005742
CREATED:20260224T094728Z
LAST-MODIFIED:20260224T094728Z
UID:987611321-1783711800-1783720800@stevesteinmanproductions.com
SUMMARY:Lincoln • New Theatre Royal
DESCRIPTION:
URL:https://stevesteinmanproductions.com/event/lincoln-new-theatre-royal/
LOCATION:New Theatre Royal\, Lincoln\, United Kingdom
CATEGORIES:Anything For Love
END:VEVENT
BEGIN:VEVENT
DTSTART;TZID=Europe/London:20260717T173000
DTEND;TZID=Europe/London:20260717T220000
DTSTAMP:20260425T005742
CREATED:20260224T095013Z
LAST-MODIFIED:20260224T095013Z
UID:987611324-1784309400-1784325600@stevesteinmanproductions.com
SUMMARY:Brighton • Brighton Centre
DESCRIPTION:With special guests – Kasim Sulton & Mark Alexander
URL:https://stevesteinmanproductions.com/event/brighton-brighton-centre/
LOCATION:Brighton Centre\, Brighton\, United Kingdom
CATEGORIES:Anything For Love
END:VEVENT
BEGIN:VEVENT
DTSTART;TZID=Europe/London:20260718T193000
DTEND;TZID=Europe/London:20260718T220000
DTSTAMP:20260425T005742
CREATED:20260224T095117Z
LAST-MODIFIED:20260224T095117Z
UID:987611327-1784403000-1784412000@stevesteinmanproductions.com
SUMMARY:Poole • Lighthouse
DESCRIPTION:With special guests – Kasim Sulton & Mark Alexander
URL:https://stevesteinmanproductions.com/event/poole-lighthouse/
LOCATION:Lighthouse\, Poole\, United Kingdom
CATEGORIES:Anything For Love
END:VEVENT
BEGIN:VEVENT
DTSTART;TZID=Europe/London:20260723T193000
DTEND;TZID=Europe/London:20260723T220000
DTSTAMP:20260425T005742
CREATED:20260224T095302Z
LAST-MODIFIED:20260224T095302Z
UID:987611330-1784835000-1784844000@stevesteinmanproductions.com
SUMMARY:Darlington • Hippodrome
DESCRIPTION:With special guests – Kasim Sulton & Mark Alexander
URL:https://stevesteinmanproductions.com/event/darlington-hippodrome-2/
LOCATION:Hippodrome\, Darlington\, United Kingdom
CATEGORIES:Anything For Love
END:VEVENT
BEGIN:VEVENT
DTSTART;TZID=Europe/London:20260724T193000
DTEND;TZID=Europe/London:20260724T220000
DTSTAMP:20260425T005742
CREATED:20260224T095417Z
LAST-MODIFIED:20260224T095417Z
UID:987611332-1784921400-1784930400@stevesteinmanproductions.com
SUMMARY:Scarborough • Scarborough Spa
DESCRIPTION:With special guests – Kasim Sulton & Mark Alexander
URL:https://stevesteinmanproductions.com/event/scarborough-scarborough-spa/
LOCATION:Scarborough Spa\, Scarborough\, United Kingdom
CATEGORIES:Anything For Love
END:VEVENT
BEGIN:VEVENT
DTSTART;TZID=Europe/London:20260725T193000
DTEND;TZID=Europe/London:20260725T220000
DTSTAMP:20260425T005742
CREATED:20260224T095518Z
LAST-MODIFIED:20260224T095518Z
UID:987611335-1785007800-1785016800@stevesteinmanproductions.com
SUMMARY:Nottingham • Royal Concert Hall
DESCRIPTION:With special guests – Kasim Sulton & Mark Alexander
URL:https://stevesteinmanproductions.com/event/nottingham-royal-concert-hall/
LOCATION:Royal Concert Hall\, Nottingham\, United Kingdom
CATEGORIES:Anything For Love
END:VEVENT
END:VCALENDAR