BEGIN:VCALENDAR
VERSION:2.0
PRODID:-//steinmanproductions - ECPv6.15.18//NONSGML v1.0//EN
CALSCALE:GREGORIAN
METHOD:PUBLISH
X-ORIGINAL-URL:https://stevesteinmanproductions.com
X-WR-CALDESC:Events for steinmanproductions
REFRESH-INTERVAL;VALUE=DURATION:PT1H
X-Robots-Tag:noindex
X-PUBLISHED-TTL:PT1H
BEGIN:VTIMEZONE
TZID:Europe/London
BEGIN:DAYLIGHT
TZOFFSETFROM:+0000
TZOFFSETTO:+0100
TZNAME:BST
DTSTART:20250330T010000
END:DAYLIGHT
BEGIN:STANDARD
TZOFFSETFROM:+0100
TZOFFSETTO:+0000
TZNAME:GMT
DTSTART:20251026T010000
END:STANDARD
BEGIN:DAYLIGHT
TZOFFSETFROM:+0000
TZOFFSETTO:+0100
TZNAME:BST
DTSTART:20260329T010000
END:DAYLIGHT
BEGIN:STANDARD
TZOFFSETFROM:+0100
TZOFFSETTO:+0000
TZNAME:GMT
DTSTART:20261025T010000
END:STANDARD
BEGIN:DAYLIGHT
TZOFFSETFROM:+0000
TZOFFSETTO:+0100
TZNAME:BST
DTSTART:20270328T010000
END:DAYLIGHT
BEGIN:STANDARD
TZOFFSETFROM:+0100
TZOFFSETTO:+0000
TZNAME:GMT
DTSTART:20271031T010000
END:STANDARD
END:VTIMEZONE
BEGIN:VEVENT
DTSTART;VALUE=DATE:20260606
DTEND;VALUE=DATE:20260607
DTSTAMP:20260424T234629
CREATED:20260224T094004Z
LAST-MODIFIED:20260317T112204Z
UID:987611305-1780704000-1780790399@stevesteinmanproductions.com
SUMMARY:Nottingham •  Warners Thoresby Hall Hotel
DESCRIPTION:
URL:https://stevesteinmanproductions.com/event/nottingham-warners-thoresby-hall-hotel/
LOCATION:Thoresby Hall Hotel\, Nottingham\, United Kingdom
CATEGORIES:Anything For Love
END:VEVENT
BEGIN:VEVENT
DTSTART;TZID=Europe/London:20260625T080000
DTEND;TZID=Europe/London:20260625T170000
DTSTAMP:20260424T234629
CREATED:20260224T094315Z
LAST-MODIFIED:20260317T112314Z
UID:987611310-1782374400-1782406800@stevesteinmanproductions.com
SUMMARY:Windsor • Theatre Royal
DESCRIPTION:
URL:https://stevesteinmanproductions.com/event/windsor-theatre-royal-2/
LOCATION:Theatre Royal\, Waterford\, Ireland
CATEGORIES:Anything For Love
END:VEVENT
BEGIN:VEVENT
DTSTART;TZID=Europe/London:20260626T080000
DTEND;TZID=Europe/London:20260626T170000
DTSTAMP:20260424T234629
CREATED:20260317T112349Z
LAST-MODIFIED:20260317T112349Z
UID:987611850-1782460800-1782493200@stevesteinmanproductions.com
SUMMARY:Windsor • Theatre Royal
DESCRIPTION:
URL:https://stevesteinmanproductions.com/event/windsor-theatre-royal-3/
LOCATION:Theatre Royal\, Waterford\, Ireland
CATEGORIES:Anything For Love
END:VEVENT
END:VCALENDAR