BEGIN:VCALENDAR
VERSION:2.0
PRODID:-//steinmanproductions - ECPv6.15.18//NONSGML v1.0//EN
CALSCALE:GREGORIAN
METHOD:PUBLISH
X-ORIGINAL-URL:https://stevesteinmanproductions.com
X-WR-CALDESC:Events for steinmanproductions
REFRESH-INTERVAL;VALUE=DURATION:PT1H
X-Robots-Tag:noindex
X-PUBLISHED-TTL:PT1H
BEGIN:VTIMEZONE
TZID:Europe/London
BEGIN:DAYLIGHT
TZOFFSETFROM:+0000
TZOFFSETTO:+0100
TZNAME:BST
DTSTART:20260329T010000
END:DAYLIGHT
BEGIN:STANDARD
TZOFFSETFROM:+0100
TZOFFSETTO:+0000
TZNAME:GMT
DTSTART:20261025T010000
END:STANDARD
BEGIN:DAYLIGHT
TZOFFSETFROM:+0000
TZOFFSETTO:+0100
TZNAME:BST
DTSTART:20270328T010000
END:DAYLIGHT
BEGIN:STANDARD
TZOFFSETFROM:+0100
TZOFFSETTO:+0000
TZNAME:GMT
DTSTART:20271031T010000
END:STANDARD
BEGIN:DAYLIGHT
TZOFFSETFROM:+0000
TZOFFSETTO:+0100
TZNAME:BST
DTSTART:20280326T010000
END:DAYLIGHT
BEGIN:STANDARD
TZOFFSETFROM:+0100
TZOFFSETTO:+0000
TZNAME:GMT
DTSTART:20281029T010000
END:STANDARD
END:VTIMEZONE
BEGIN:VEVENT
DTSTART;TZID=Europe/London:20271117T193000
DTEND;TZID=Europe/London:20271117T220000
DTSTAMP:20260425T131214
CREATED:20260312T105244Z
LAST-MODIFIED:20260312T105244Z
UID:987611745-1826479800-1826488800@stevesteinmanproductions.com
SUMMARY:Shrewsbury • Theatre Severn
DESCRIPTION:
URL:https://stevesteinmanproductions.com/event/shrewsbury-theatre-severn-2/
LOCATION:Theatre Severn\, Shrewsbury\, United Kingdom
CATEGORIES:Bat Out of Hell 50th Anniversary
END:VEVENT
BEGIN:VEVENT
DTSTART;TZID=Europe/London:20271118T193000
DTEND;TZID=Europe/London:20271118T220000
DTSTAMP:20260425T131214
CREATED:20260312T105315Z
LAST-MODIFIED:20260312T105315Z
UID:987611747-1826566200-1826575200@stevesteinmanproductions.com
SUMMARY:Shrewsbury • Theatre Severn
DESCRIPTION:
URL:https://stevesteinmanproductions.com/event/shrewsbury-theatre-severn-3/
LOCATION:Theatre Severn\, Shrewsbury\, United Kingdom
CATEGORIES:Bat Out of Hell 50th Anniversary
END:VEVENT
BEGIN:VEVENT
DTSTART;TZID=Europe/London:20271119T193000
DTEND;TZID=Europe/London:20271119T220000
DTSTAMP:20260425T131214
CREATED:20260312T105410Z
LAST-MODIFIED:20260312T105410Z
UID:987611749-1826652600-1826661600@stevesteinmanproductions.com
SUMMARY:Stevenage • Concert Hall
DESCRIPTION:
URL:https://stevesteinmanproductions.com/event/stevenage-concert-hall/
LOCATION:Concert Hall\, Perth\, United Kingdom
CATEGORIES:Bat Out of Hell 50th Anniversary
END:VEVENT
BEGIN:VEVENT
DTSTART;TZID=Europe/London:20271120T193000
DTEND;TZID=Europe/London:20271120T220000
DTSTAMP:20260425T131214
CREATED:20260312T105507Z
LAST-MODIFIED:20260312T105507Z
UID:987611752-1826739000-1826748000@stevesteinmanproductions.com
SUMMARY:Ipswich • Regent Theatre
DESCRIPTION:
URL:https://stevesteinmanproductions.com/event/ipswich-regent-theatre-3/
LOCATION:Regent Theatre\, Ipswich\, United Kingdom
CATEGORIES:Bat Out of Hell 50th Anniversary
END:VEVENT
BEGIN:VEVENT
DTSTART;TZID=Europe/London:20271123T193000
DTEND;TZID=Europe/London:20271123T220000
DTSTAMP:20260425T131214
CREATED:20260312T105613Z
LAST-MODIFIED:20260312T105613Z
UID:987611754-1826998200-1827007200@stevesteinmanproductions.com
SUMMARY:Manchester • Bridgewater Hall
DESCRIPTION:
URL:https://stevesteinmanproductions.com/event/manchester-bridgewater-hall/
LOCATION:Bridgewater Hall\, Manchester\, United Kingdom
CATEGORIES:Bat Out of Hell 50th Anniversary
END:VEVENT
BEGIN:VEVENT
DTSTART;TZID=Europe/London:20271124T193000
DTEND;TZID=Europe/London:20271124T220000
DTSTAMP:20260425T131214
CREATED:20260312T105659Z
LAST-MODIFIED:20260312T105659Z
UID:987611757-1827084600-1827093600@stevesteinmanproductions.com
SUMMARY:Nottingham • Royal Concert Hall
DESCRIPTION:
URL:https://stevesteinmanproductions.com/event/nottingham-royal-concert-hall-2/
LOCATION:Royal Concert Hall\, Nottingham\, United Kingdom
CATEGORIES:Bat Out of Hell 50th Anniversary
END:VEVENT
BEGIN:VEVENT
DTSTART;TZID=Europe/London:20271127T193000
DTEND;TZID=Europe/London:20271127T220000
DTSTAMP:20260425T131214
CREATED:20260312T105822Z
LAST-MODIFIED:20260312T105822Z
UID:987611759-1827343800-1827352800@stevesteinmanproductions.com
SUMMARY:Isle of Man • Villa Marina
DESCRIPTION:
URL:https://stevesteinmanproductions.com/event/isle-of-man-villa-marina-2/
LOCATION:Villa Marina\, Isle of Man\, United Kingdom
CATEGORIES:Bat Out of Hell 50th Anniversary
END:VEVENT
BEGIN:VEVENT
DTSTART;TZID=Europe/London:20271202T193000
DTEND;TZID=Europe/London:20271202T220000
DTSTAMP:20260425T131214
CREATED:20260312T105927Z
LAST-MODIFIED:20260312T105927Z
UID:987611761-1827775800-1827784800@stevesteinmanproductions.com
SUMMARY:Bath • The Forum
DESCRIPTION:
URL:https://stevesteinmanproductions.com/event/bath-the-forum/
LOCATION:The Forum\, Bath\, United Kingdom
CATEGORIES:Bat Out of Hell 50th Anniversary
END:VEVENT
BEGIN:VEVENT
DTSTART;TZID=Europe/London:20271204T193000
DTEND;TZID=Europe/London:20271204T220000
DTSTAMP:20260425T131214
CREATED:20260312T110037Z
LAST-MODIFIED:20260312T110037Z
UID:987611764-1827948600-1827957600@stevesteinmanproductions.com
SUMMARY:Blackpool • Winter Gardens
DESCRIPTION:
URL:https://stevesteinmanproductions.com/event/blackpool-winter-gardens/
LOCATION:Winter Gardens\, Blackpool\, United Kingdom
CATEGORIES:Bat Out of Hell 50th Anniversary
END:VEVENT
END:VCALENDAR