BEGIN:VCALENDAR
VERSION:2.0
PRODID:-//steinmanproductions - ECPv6.15.18//NONSGML v1.0//EN
CALSCALE:GREGORIAN
METHOD:PUBLISH
X-WR-CALNAME:steinmanproductions
X-ORIGINAL-URL:https://stevesteinmanproductions.com
X-WR-CALDESC:Events for steinmanproductions
REFRESH-INTERVAL;VALUE=DURATION:PT1H
X-Robots-Tag:noindex
X-PUBLISHED-TTL:PT1H
BEGIN:VTIMEZONE
TZID:Europe/London
BEGIN:DAYLIGHT
TZOFFSETFROM:+0000
TZOFFSETTO:+0100
TZNAME:BST
DTSTART:20250330T010000
END:DAYLIGHT
BEGIN:STANDARD
TZOFFSETFROM:+0100
TZOFFSETTO:+0000
TZNAME:GMT
DTSTART:20251026T010000
END:STANDARD
BEGIN:DAYLIGHT
TZOFFSETFROM:+0000
TZOFFSETTO:+0100
TZNAME:BST
DTSTART:20260329T010000
END:DAYLIGHT
BEGIN:STANDARD
TZOFFSETFROM:+0100
TZOFFSETTO:+0000
TZNAME:GMT
DTSTART:20261025T010000
END:STANDARD
BEGIN:DAYLIGHT
TZOFFSETFROM:+0000
TZOFFSETTO:+0100
TZNAME:BST
DTSTART:20270328T010000
END:DAYLIGHT
BEGIN:STANDARD
TZOFFSETFROM:+0100
TZOFFSETTO:+0000
TZNAME:GMT
DTSTART:20271031T010000
END:STANDARD
END:VTIMEZONE
BEGIN:VEVENT
DTSTART;TZID=Europe/London:20260314T193000
DTEND;TZID=Europe/London:20260314T220000
DTSTAMP:20260425T141842
CREATED:20260223T153450Z
LAST-MODIFIED:20260224T092024Z
UID:987611258-1773516600-1773525600@stevesteinmanproductions.com
SUMMARY:Blackpool • The Grand Theatre
DESCRIPTION:
URL:https://stevesteinmanproductions.com/event/blackpool-the-grand-theatre/
LOCATION:The Grand Theatre\, Blackpool\, United Kingdom
CATEGORIES:Eternal Love
END:VEVENT
BEGIN:VEVENT
DTSTART;TZID=Europe/London:20260312T193000
DTEND;TZID=Europe/London:20260312T220000
DTSTAMP:20260425T141842
CREATED:20260223T150010Z
LAST-MODIFIED:20260223T161551Z
UID:987611252-1773343800-1773352800@stevesteinmanproductions.com
SUMMARY:Glasgow • Kings Theatre
DESCRIPTION:
URL:https://stevesteinmanproductions.com/event/glasgow-kings-theatre/
LOCATION:Kings Theatre
CATEGORIES:Eternal Love
END:VEVENT
BEGIN:VEVENT
DTSTART;TZID=Europe/London:20260225T220000
DTEND;TZID=Europe/London:20260225T220000
DTSTAMP:20260425T141842
CREATED:20260224T094148Z
LAST-MODIFIED:20260224T094209Z
UID:987611308-1772056800-1772056800@stevesteinmanproductions.com
SUMMARY:Windsor • Theatre Royal
DESCRIPTION:
URL:https://stevesteinmanproductions.com/event/windsor-theatre-royal/
LOCATION:Theatre Royal\, Waterford\, Ireland
CATEGORIES:Anything For Love
END:VEVENT
BEGIN:VEVENT
DTSTART;TZID=Europe/London:20260116T193000
DTEND;TZID=Europe/London:20260116T220000
DTSTAMP:20260425T141842
CREATED:20260223T115457Z
LAST-MODIFIED:20260223T145632Z
UID:987611243-1768591800-1768600800@stevesteinmanproductions.com
SUMMARY:Newark Palace Theatre
DESCRIPTION:
URL:https://stevesteinmanproductions.com/event/newark-palace-theatre/
LOCATION:Palace Theatre\, Newark\, United Kingdom
CATEGORIES:Eternal Love
END:VEVENT
END:VCALENDAR