BEGIN:VCALENDAR
VERSION:2.0
PRODID:-//steinmanproductions - ECPv6.15.18//NONSGML v1.0//EN
CALSCALE:GREGORIAN
METHOD:PUBLISH
X-WR-CALNAME:steinmanproductions
X-ORIGINAL-URL:https://stevesteinmanproductions.com
X-WR-CALDESC:Events for steinmanproductions
REFRESH-INTERVAL;VALUE=DURATION:PT1H
X-Robots-Tag:noindex
X-PUBLISHED-TTL:PT1H
BEGIN:VTIMEZONE
TZID:Europe/London
BEGIN:DAYLIGHT
TZOFFSETFROM:+0000
TZOFFSETTO:+0100
TZNAME:BST
DTSTART:20260329T010000
END:DAYLIGHT
BEGIN:STANDARD
TZOFFSETFROM:+0100
TZOFFSETTO:+0000
TZNAME:GMT
DTSTART:20261025T010000
END:STANDARD
BEGIN:DAYLIGHT
TZOFFSETFROM:+0000
TZOFFSETTO:+0100
TZNAME:BST
DTSTART:20270328T010000
END:DAYLIGHT
BEGIN:STANDARD
TZOFFSETFROM:+0100
TZOFFSETTO:+0000
TZNAME:GMT
DTSTART:20271031T010000
END:STANDARD
BEGIN:DAYLIGHT
TZOFFSETFROM:+0000
TZOFFSETTO:+0100
TZNAME:BST
DTSTART:20280326T010000
END:DAYLIGHT
BEGIN:STANDARD
TZOFFSETFROM:+0100
TZOFFSETTO:+0000
TZNAME:GMT
DTSTART:20281029T010000
END:STANDARD
END:VTIMEZONE
BEGIN:VEVENT
DTSTART;TZID=Europe/London:20270514T193000
DTEND;TZID=Europe/London:20270514T220000
DTSTAMP:20260425T152255
CREATED:20260312T092554Z
LAST-MODIFIED:20260312T092554Z
UID:987611647-1810323000-1810332000@stevesteinmanproductions.com
SUMMARY:Rhyl • Pavilion Theatre
DESCRIPTION:
URL:https://stevesteinmanproductions.com/event/rhyl-pavilion-theatre/
LOCATION:Pavilion Theatre\, Rhyl\, United Kingdom
CATEGORIES:Bat Out of Hell 50th Anniversary
END:VEVENT
BEGIN:VEVENT
DTSTART;TZID=Europe/London:20270515T193000
DTEND;TZID=Europe/London:20270515T220000
DTSTAMP:20260425T152255
CREATED:20260312T092350Z
LAST-MODIFIED:20260316T090301Z
UID:987611644-1810409400-1810418400@stevesteinmanproductions.com
SUMMARY:Lincoln • Engine Shed
DESCRIPTION:
URL:https://stevesteinmanproductions.com/event/lincoln-engine-shed/
LOCATION:Engine Shed\, Lincoln\, United Kingdom
CATEGORIES:Bat Out of Hell 50th Anniversary
END:VEVENT
BEGIN:VEVENT
DTSTART;TZID=Europe/London:20270605T193000
DTEND;TZID=Europe/London:20270605T220000
DTSTAMP:20260425T152255
CREATED:20260312T092740Z
LAST-MODIFIED:20260326T154759Z
UID:987611649-1812223800-1812232800@stevesteinmanproductions.com
SUMMARY:Wexford • National Opera House
DESCRIPTION:
URL:https://stevesteinmanproductions.com/event/wexford-national-opera-house/
LOCATION:National Opera House\, Wexford\, United Kingdom
CATEGORIES:Bat Out of Hell 50th Anniversary
END:VEVENT
BEGIN:VEVENT
DTSTART;TZID=Europe/London:20270610T193000
DTEND;TZID=Europe/London:20270610T220000
DTSTAMP:20260425T152255
CREATED:20260312T092950Z
LAST-MODIFIED:20260313T113956Z
UID:987611652-1812655800-1812664800@stevesteinmanproductions.com
SUMMARY:Derry - Ireland • Millenium Forum Theatre
DESCRIPTION:
URL:https://stevesteinmanproductions.com/event/derry-ireland-millenium-forum-theatre/
LOCATION:Millenium Forum Theatre\, Derry\, Ireland
CATEGORIES:Bat Out of Hell 50th Anniversary
END:VEVENT
BEGIN:VEVENT
DTSTART;TZID=Europe/London:20270611T193000
DTEND;TZID=Europe/London:20270611T220000
DTSTAMP:20260425T152255
CREATED:20260317T114009Z
LAST-MODIFIED:20260317T114009Z
UID:987611871-1812742200-1812751200@stevesteinmanproductions.com
SUMMARY:Killarney - Ireland • Glenn Eagles Arena
DESCRIPTION:
URL:https://stevesteinmanproductions.com/event/killarney-ireland-glenn-eagles-arena/
LOCATION:Glenn Eagles Arena\, Killarney\, Ireland
CATEGORIES:Bat Out of Hell 50th Anniversary
END:VEVENT
BEGIN:VEVENT
DTSTART;TZID=Europe/London:20270612T193000
DTEND;TZID=Europe/London:20270612T220000
DTSTAMP:20260425T152255
CREATED:20260312T093104Z
LAST-MODIFIED:20260312T113507Z
UID:987611655-1812828600-1812837600@stevesteinmanproductions.com
SUMMARY:Waterford - Ireland  • Theatre Royal
DESCRIPTION:
URL:https://stevesteinmanproductions.com/event/waterford-ireland-theatre-royal/
LOCATION:Theatre Royal\, Waterford\, Ireland
CATEGORIES:Bat Out of Hell 50th Anniversary
END:VEVENT
BEGIN:VEVENT
DTSTART;TZID=Europe/London:20270613T193000
DTEND;TZID=Europe/London:20270613T220000
DTSTAMP:20260425T152255
CREATED:20260312T093222Z
LAST-MODIFIED:20260312T093222Z
UID:987611657-1812915000-1812924000@stevesteinmanproductions.com
SUMMARY:Waterford - Ireland  • Theatre Royal
DESCRIPTION:
URL:https://stevesteinmanproductions.com/event/waterford-ireland-theatre-royal-2/
LOCATION:Theatre Royal\, Waterford\, Ireland
CATEGORIES:Bat Out of Hell 50th Anniversary
END:VEVENT
BEGIN:VEVENT
DTSTART;TZID=Europe/London:20270618T193000
DTEND;TZID=Europe/London:20270618T220000
DTSTAMP:20260425T152255
CREATED:20260312T093415Z
LAST-MODIFIED:20260312T093415Z
UID:987611659-1813347000-1813356000@stevesteinmanproductions.com
SUMMARY:Newark • Palace Theatre
DESCRIPTION:
URL:https://stevesteinmanproductions.com/event/newark-palace-theatre-2/
LOCATION:Palace Theatre\, Newark\, United Kingdom
CATEGORIES:Bat Out of Hell 50th Anniversary
END:VEVENT
BEGIN:VEVENT
DTSTART;TZID=Europe/London:20270619T193000
DTEND;TZID=Europe/London:20270619T220000
DTSTAMP:20260425T152255
CREATED:20260312T093632Z
LAST-MODIFIED:20260317T105042Z
UID:987611661-1813433400-1813442400@stevesteinmanproductions.com
SUMMARY:Northampton •  Royal & Derngate
DESCRIPTION:
URL:https://stevesteinmanproductions.com/event/northampton-old-savoy-theatre/
LOCATION:Royal & Derngate\, Northampton\, United Kingdom
CATEGORIES:Bat Out of Hell 50th Anniversary
END:VEVENT
BEGIN:VEVENT
DTSTART;TZID=Europe/London:20270626T080000
DTEND;TZID=Europe/London:20270626T170000
DTSTAMP:20260425T152255
CREATED:20260409T104129Z
LAST-MODIFIED:20260420T081746Z
UID:987612050-1813996800-1814029200@stevesteinmanproductions.com
SUMMARY:Grimsby • Grimsby Auditorium
DESCRIPTION:
URL:https://stevesteinmanproductions.com/event/grimsby-grimsby-auditorium/
LOCATION:Grimsby Auditorium\, Grimsby\, United Kingdom
CATEGORIES:Bat Out of Hell 50th Anniversary
END:VEVENT
BEGIN:VEVENT
DTSTART;TZID=Europe/London:20270630T193000
DTEND;TZID=Europe/London:20270630T220000
DTSTAMP:20260425T152255
CREATED:20260312T093916Z
LAST-MODIFIED:20260312T093916Z
UID:987611667-1814383800-1814392800@stevesteinmanproductions.com
SUMMARY:Guildford • G-LIVE
DESCRIPTION:
URL:https://stevesteinmanproductions.com/event/guildford-g-live-2/
LOCATION:G-Live\, Guildford\, United Kingdom
CATEGORIES:Bat Out of Hell 50th Anniversary
END:VEVENT
BEGIN:VEVENT
DTSTART;TZID=Europe/London:20270701T193000
DTEND;TZID=Europe/London:20270701T220000
DTSTAMP:20260425T152255
CREATED:20260312T094111Z
LAST-MODIFIED:20260317T114124Z
UID:987611669-1814470200-1814479200@stevesteinmanproductions.com
SUMMARY:Southend-on-Sea • Cliffs Pavilion
DESCRIPTION:
URL:https://stevesteinmanproductions.com/event/southend-cliffs-pavilion/
LOCATION:Cliffs Pavilion\, Southend-on-sea\, United Kingdom
CATEGORIES:Bat Out of Hell 50th Anniversary
END:VEVENT
BEGIN:VEVENT
DTSTART;TZID=Europe/London:20270702T193000
DTEND;TZID=Europe/London:20270702T220000
DTSTAMP:20260425T152255
CREATED:20260312T094234Z
LAST-MODIFIED:20260312T094234Z
UID:987611671-1814556600-1814565600@stevesteinmanproductions.com
SUMMARY:Poole • Lighthouse
DESCRIPTION:
URL:https://stevesteinmanproductions.com/event/poole-lighthouse-2/
LOCATION:Lighthouse\, Poole\, United Kingdom
CATEGORIES:Bat Out of Hell 50th Anniversary
END:VEVENT
BEGIN:VEVENT
DTSTART;TZID=Europe/London:20270703T193000
DTEND;TZID=Europe/London:20270703T220000
DTSTAMP:20260425T152255
CREATED:20260312T094336Z
LAST-MODIFIED:20260312T094336Z
UID:987611673-1814643000-1814652000@stevesteinmanproductions.com
SUMMARY:Truro • Hall For Cornwall
DESCRIPTION:
URL:https://stevesteinmanproductions.com/event/truro-hall-for-cornwall/
LOCATION:Hall For Cornwall\, Truro\, United Kingdom
CATEGORIES:Bat Out of Hell 50th Anniversary
END:VEVENT
BEGIN:VEVENT
DTSTART;TZID=Europe/London:20270723T193000
DTEND;TZID=Europe/London:20270723T220000
DTSTAMP:20260425T152255
CREATED:20260312T094506Z
LAST-MODIFIED:20260312T094506Z
UID:987611676-1816371000-1816380000@stevesteinmanproductions.com
SUMMARY:Darlington • Hippodrome
DESCRIPTION:
URL:https://stevesteinmanproductions.com/event/darlington-hippodrome-3/
LOCATION:Hippodrome\, Darlington\, United Kingdom
CATEGORIES:Bat Out of Hell 50th Anniversary
END:VEVENT
BEGIN:VEVENT
DTSTART;TZID=Europe/London:20270724T193000
DTEND;TZID=Europe/London:20270724T220000
DTSTAMP:20260425T152255
CREATED:20260312T094617Z
LAST-MODIFIED:20260312T094617Z
UID:987611678-1816457400-1816466400@stevesteinmanproductions.com
SUMMARY:Whitley Bay • Playhouse
DESCRIPTION:
URL:https://stevesteinmanproductions.com/event/whitley-bay-playhouse/
LOCATION:Playhouse\, Whitley Bay\, United Kingdom
CATEGORIES:Bat Out of Hell 50th Anniversary
END:VEVENT
BEGIN:VEVENT
DTSTART;TZID=Europe/London:20270729T193000
DTEND;TZID=Europe/London:20270729T220000
DTSTAMP:20260425T152255
CREATED:20260312T094731Z
LAST-MODIFIED:20260312T094731Z
UID:987611681-1816889400-1816898400@stevesteinmanproductions.com
SUMMARY:Tunbridge Wells • Assembly Hall Theatre
DESCRIPTION:
URL:https://stevesteinmanproductions.com/event/tunbridge-wells-assembly-hall-theatre/
LOCATION:Assembly Hall Theatre\, Tunbridge Wells\, United Kingdom
CATEGORIES:Bat Out of Hell 50th Anniversary
END:VEVENT
BEGIN:VEVENT
DTSTART;TZID=Europe/London:20270730T193000
DTEND;TZID=Europe/London:20270730T220000
DTSTAMP:20260425T152255
CREATED:20260312T094901Z
LAST-MODIFIED:20260312T094901Z
UID:987611684-1816975800-1816984800@stevesteinmanproductions.com
SUMMARY:Kings Lynn • Corn Exchange
DESCRIPTION:
URL:https://stevesteinmanproductions.com/event/kings-lynn-corn-exchange-2/
LOCATION:Corn Exchange\, Kings Lynn\, United Kingdom
CATEGORIES:Bat Out of Hell 50th Anniversary
END:VEVENT
BEGIN:VEVENT
DTSTART;TZID=Europe/London:20270731T193000
DTEND;TZID=Europe/London:20270731T220000
DTSTAMP:20260425T152255
CREATED:20260312T095034Z
LAST-MODIFIED:20260312T095034Z
UID:987611686-1817062200-1817071200@stevesteinmanproductions.com
SUMMARY:Scarborough • Scarborough Spa
DESCRIPTION:
URL:https://stevesteinmanproductions.com/event/scarborough-scarborough-spa-2/
LOCATION:Scarborough Spa\, Scarborough\, United Kingdom
CATEGORIES:Bat Out of Hell 50th Anniversary
END:VEVENT
BEGIN:VEVENT
DTSTART;TZID=Europe/London:20270917T193000
DTEND;TZID=Europe/London:20270917T220000
DTSTAMP:20260425T152255
CREATED:20260312T093810Z
LAST-MODIFIED:20260317T114040Z
UID:987611664-1821209400-1821218400@stevesteinmanproductions.com
SUMMARY:Crewe • Lyceum Theatre
DESCRIPTION:
URL:https://stevesteinmanproductions.com/event/crewe-lyceum-theatre/
LOCATION:Lyceum Theatre\, Crewe\, United Kingdom
CATEGORIES:Bat Out of Hell 50th Anniversary
END:VEVENT
BEGIN:VEVENT
DTSTART;TZID=Europe/London:20270918T193000
DTEND;TZID=Europe/London:20270918T220000
DTSTAMP:20260425T152255
CREATED:20260317T114251Z
LAST-MODIFIED:20260317T114251Z
UID:987611876-1821295800-1821304800@stevesteinmanproductions.com
SUMMARY:Carlisle • Sands Centre
DESCRIPTION:
URL:https://stevesteinmanproductions.com/event/carlisle-sands-centre-3/
LOCATION:Sands Centre\, Carlisle\, United Kingdom
CATEGORIES:Bat Out of Hell 50th Anniversary
END:VEVENT
BEGIN:VEVENT
DTSTART;TZID=Europe/London:20270923T080000
DTEND;TZID=Europe/London:20270923T170000
DTSTAMP:20260425T152255
CREATED:20260317T114344Z
LAST-MODIFIED:20260326T135544Z
UID:987611878-1821686400-1821718800@stevesteinmanproductions.com
SUMMARY:Portsmouth • Kings Theatre
DESCRIPTION:
URL:https://stevesteinmanproductions.com/event/portsmouth-kings-theatre-2/
LOCATION:Kings Theatre
CATEGORIES:Bat Out of Hell 50th Anniversary
END:VEVENT
BEGIN:VEVENT
DTSTART;TZID=Europe/London:20270924T193000
DTEND;TZID=Europe/London:20270924T220000
DTSTAMP:20260425T152255
CREATED:20260312T095137Z
LAST-MODIFIED:20260312T095137Z
UID:987611688-1821814200-1821823200@stevesteinmanproductions.com
SUMMARY:Swindon • Wyvern Theatre
DESCRIPTION:
URL:https://stevesteinmanproductions.com/event/swindon-wyvern-theatre-2/
LOCATION:Wyvern Theatre\, Swindon\, United Kingdom
CATEGORIES:Bat Out of Hell 50th Anniversary
END:VEVENT
BEGIN:VEVENT
DTSTART;TZID=Europe/London:20270925T193000
DTEND;TZID=Europe/London:20270925T220000
DTSTAMP:20260425T152255
CREATED:20260312T095543Z
LAST-MODIFIED:20260312T095543Z
UID:987611690-1821900600-1821909600@stevesteinmanproductions.com
SUMMARY:Cardiff • Utilita Arena
DESCRIPTION:
URL:https://stevesteinmanproductions.com/event/cardiff-utilita-arena/
LOCATION:Utilita Arena\, Cardiff\, United Kingdom
CATEGORIES:Bat Out of Hell 50th Anniversary
END:VEVENT
BEGIN:VEVENT
DTSTART;TZID=Europe/London:20270929T193000
DTEND;TZID=Europe/London:20270929T220000
DTSTAMP:20260425T152255
CREATED:20260312T100556Z
LAST-MODIFIED:20260312T100556Z
UID:987611695-1822246200-1822255200@stevesteinmanproductions.com
SUMMARY:Edinburgh • Usher Hall
DESCRIPTION:
URL:https://stevesteinmanproductions.com/event/edinburgh-usher-hall/
LOCATION:Usher Hall\, Edinburgh\, United Kingdom
CATEGORIES:Bat Out of Hell 50th Anniversary
END:VEVENT
BEGIN:VEVENT
DTSTART;TZID=Europe/London:20271001T193000
DTEND;TZID=Europe/London:20271001T220000
DTSTAMP:20260425T152255
CREATED:20260312T100837Z
LAST-MODIFIED:20260312T100837Z
UID:987611700-1822419000-1822428000@stevesteinmanproductions.com
SUMMARY:Buxton • Opera House
DESCRIPTION:
URL:https://stevesteinmanproductions.com/event/buxton-opera-house-3/
LOCATION:Opera House\, Buxton\, United Kingdom
CATEGORIES:Bat Out of Hell 50th Anniversary
END:VEVENT
BEGIN:VEVENT
DTSTART;TZID=Europe/London:20271002T080000
DTEND;TZID=Europe/London:20271002T170000
DTSTAMP:20260425T152255
CREATED:20260312T100944Z
LAST-MODIFIED:20260312T100944Z
UID:987611702-1822464000-1822496400@stevesteinmanproductions.com
SUMMARY:Buxton • Opera House
DESCRIPTION:
URL:https://stevesteinmanproductions.com/event/buxton-opera-house-4/
LOCATION:Opera House\, Buxton\, United Kingdom
CATEGORIES:Bat Out of Hell 50th Anniversary
END:VEVENT
BEGIN:VEVENT
DTSTART;TZID=Europe/London:20271006T193000
DTEND;TZID=Europe/London:20271006T220000
DTSTAMP:20260425T152255
CREATED:20260312T101134Z
LAST-MODIFIED:20260312T101134Z
UID:987611704-1822851000-1822860000@stevesteinmanproductions.com
SUMMARY:Sheffield • City Hall
DESCRIPTION:
URL:https://stevesteinmanproductions.com/event/sheffield-city-hall/
LOCATION:City Hall\, Salisbury\, United Kingdom
CATEGORIES:Bat Out of Hell 50th Anniversary
END:VEVENT
BEGIN:VEVENT
DTSTART;TZID=Europe/London:20271007T193000
DTEND;TZID=Europe/London:20271007T220000
DTSTAMP:20260425T152255
CREATED:20260312T101403Z
LAST-MODIFIED:20260312T101403Z
UID:987611706-1822937400-1822946400@stevesteinmanproductions.com
SUMMARY:Salisbury • City Hall
DESCRIPTION:
URL:https://stevesteinmanproductions.com/event/salisbury-city-hall-2/
LOCATION:City Hall\, Salisbury\, United Kingdom
CATEGORIES:Bat Out of Hell 50th Anniversary
END:VEVENT
BEGIN:VEVENT
DTSTART;TZID=Europe/London:20271008T193000
DTEND;TZID=Europe/London:20271008T220000
DTSTAMP:20260425T152255
CREATED:20260312T102133Z
LAST-MODIFIED:20260312T102133Z
UID:987611708-1823023800-1823032800@stevesteinmanproductions.com
SUMMARY:Scunthorpe • The Baths Hall
DESCRIPTION:
URL:https://stevesteinmanproductions.com/event/scunthorpe-the-baths-hall-2/
LOCATION:The Baths Hall\, Scunthorpe\, United Kingdom
CATEGORIES:Bat Out of Hell 50th Anniversary
END:VEVENT
END:VCALENDAR