BEGIN:VCALENDAR
VERSION:2.0
PRODID:-//steinmanproductions - ECPv6.15.18//NONSGML v1.0//EN
CALSCALE:GREGORIAN
METHOD:PUBLISH
X-ORIGINAL-URL:https://stevesteinmanproductions.com
X-WR-CALDESC:Events for steinmanproductions
REFRESH-INTERVAL;VALUE=DURATION:PT1H
X-Robots-Tag:noindex
X-PUBLISHED-TTL:PT1H
BEGIN:VTIMEZONE
TZID:Europe/London
BEGIN:DAYLIGHT
TZOFFSETFROM:+0000
TZOFFSETTO:+0100
TZNAME:BST
DTSTART:20250330T010000
END:DAYLIGHT
BEGIN:STANDARD
TZOFFSETFROM:+0100
TZOFFSETTO:+0000
TZNAME:GMT
DTSTART:20251026T010000
END:STANDARD
BEGIN:DAYLIGHT
TZOFFSETFROM:+0000
TZOFFSETTO:+0100
TZNAME:BST
DTSTART:20260329T010000
END:DAYLIGHT
BEGIN:STANDARD
TZOFFSETFROM:+0100
TZOFFSETTO:+0000
TZNAME:GMT
DTSTART:20261025T010000
END:STANDARD
BEGIN:DAYLIGHT
TZOFFSETFROM:+0000
TZOFFSETTO:+0100
TZNAME:BST
DTSTART:20270328T010000
END:DAYLIGHT
BEGIN:STANDARD
TZOFFSETFROM:+0100
TZOFFSETTO:+0000
TZNAME:GMT
DTSTART:20271031T010000
END:STANDARD
END:VTIMEZONE
BEGIN:VEVENT
DTSTART;TZID=Europe/London:20260424T193000
DTEND;TZID=Europe/London:20260425T220000
DTSTAMP:20260424T202016
CREATED:20260223T154743Z
LAST-MODIFIED:20260224T092235Z
UID:987611273-1777059000-1777154400@stevesteinmanproductions.com
SUMMARY:Tewkesbury • The Roses Theatre
DESCRIPTION:
URL:https://stevesteinmanproductions.com/event/tewkesbury-the-roses-theatre/
LOCATION:The Roses Theatre\, Tewkesbury\, United Kingdom
CATEGORIES:Eternal Love
END:VEVENT
END:VCALENDAR